BEGIN:VCALENDAR
VERSION:2.0
PRODID:-//Tukios.com/
BEGIN:VEVENT
UID:c29923bd-3fde-4c4e-a33d-977a0daee153@www.carlsonfh.net
DTSTAMP:20260421T204002Z
DTSTART:20260508T210000Z
DTEND:20260509T000000Z
SUMMARY:Celebration of Life
DESCRIPTION:
URL:https://www.carlsonfh.net/obituaries/ernest-goetz
LOCATION:Carlson-Geisendorf Funeral Home 500 South Ohio Street  Salina KS 
	67401
GEO:38.8332029;-97.5948576
END:VEVENT
END:VCALENDAR