BEGIN:VCALENDAR
VERSION:2.0
PRODID:-//Tukios.com/
BEGIN:VEVENT
UID:8ec8338b-e552-4207-ae54-ef024416d4f7@www.carlsonfh.net
DTSTAMP:20260424T003740Z
DTSTART:20260502T180000Z
DTEND:20260502T190000Z
SUMMARY:Graveside Service
DESCRIPTION:
URL:https://www.carlsonfh.net/obituaries/laverda-schulze
LOCATION:Salemsborg Lutheran Cemetery    Falun KS 67442
GEO:38.6712543;-97.7593339
END:VEVENT
END:VCALENDAR